BEGIN:VCALENDAR
VERSION:2.0
PRODID:-//Department Of Education//bd2725b0-3443-4578-9eca-68da2ea93a8a
BEGIN:VTIMEZONE
TZID:Australia/Sydney
TZURL:http://tzurl.org/zoneinfo-outlook/Australia/Sydney
X-LIC-LOCATION:Australia/Sydney
BEGIN:STANDARD
TZOFFSETFROM:+1100
TZOFFSETTO:+1000
TZNAME:AEST
DTSTART:19700405T030000
RRULE:FREQ=YEARLY;BYMONTH=4;BYDAY=1SU
END:STANDARD
BEGIN:DAYLIGHT
TZOFFSETFROM:+1000
TZOFFSETTO:+1100
TZNAME:AEDT
DTSTART:19701004T020000
RRULE:FREQ=YEARLY;BYMONTH=10;BYDAY=1SU
END:DAYLIGHT
END:VTIMEZONE
CALSCALE:GREGORIAN
X-WR-TIMEZONE:Australia/Sydney
BEGIN:VEVENT
DTSTART;TZID=Australia/Sydney:20200214T083012
DTEND;TZID=Australia/Sydney:20200214T150017
DTSTAMP:20200214T000000Z
UID:ad864596-b7a4-4622-bb50-8b3b0836a893
LOCATION:Gunnedah Swimming Pool 
SUMMARY;LANGUAGE=en-us:Gunnedah Zone PSSA Swimming Carnival 
SEQUENCE:0
DESCRIPTION:The Gunnedah Zone Swimming Carnival will be held at the Gunnedah Swimming Pool on Friday the 14th of February.  Students are to refer to their individual schools for more information. 
END:VEVENT
TRANSP:TRANSPARENT
END:VCALENDAR
