BEGIN:VCALENDAR
VERSION:2.0
PRODID:-//Department Of Education//19c181fc-7538-47d2-955b-a194309e8662
BEGIN:VTIMEZONE
TZID:Australia/Sydney
TZURL:http://tzurl.org/zoneinfo-outlook/Australia/Sydney
X-LIC-LOCATION:Australia/Sydney
BEGIN:STANDARD
TZOFFSETFROM:+1100
TZOFFSETTO:+1000
TZNAME:AEST
DTSTART:19700405T030000
RRULE:FREQ=YEARLY;BYMONTH=4;BYDAY=1SU
END:STANDARD
BEGIN:DAYLIGHT
TZOFFSETFROM:+1000
TZOFFSETTO:+1100
TZNAME:AEDT
DTSTART:19701004T020000
RRULE:FREQ=YEARLY;BYMONTH=10;BYDAY=1SU
END:DAYLIGHT
END:VTIMEZONE
CALSCALE:GREGORIAN
X-WR-TIMEZONE:Australia/Sydney
BEGIN:VEVENT
DTSTART;VALUE=DATE:20200301
DTEND;VALUE=DATE:20200302
DTSTAMP:20200301T000000Z
UID:abc22176-202c-46df-a472-c8d97beb6f47
LOCATION:INTERNATIONAL CONVENTION CENTRE SYDNEY Darling Drive, DARLING HARBOUR, NSW, Australia
SUMMARY;LANGUAGE=en-us:Year 6 Young Leaders Excursion 
RRULE:FREQ=DAILY;INTERVAL=1;UNTIL=20200302;
SEQUENCE:0
DESCRIPTION:Year 6 students will be attending the Halogen Young Leaders Conference in Sydney. 
END:VEVENT
TRANSP:TRANSPARENT
END:VCALENDAR
